BEGIN:VCALENDAR
VERSION:2.0
PRODID:-//Warren &quot;Billy&quot; Cherry Scholarship Fund - ECPv6.15.20//NONSGML v1.0//EN
CALSCALE:GREGORIAN
METHOD:PUBLISH
X-WR-CALNAME:Warren &quot;Billy&quot; Cherry Scholarship Fund
X-ORIGINAL-URL:https://cherryscholarship.org
X-WR-CALDESC:Events for Warren &quot;Billy&quot; Cherry Scholarship Fund
REFRESH-INTERVAL;VALUE=DURATION:PT1H
X-Robots-Tag:noindex
X-PUBLISHED-TTL:PT1H
BEGIN:VTIMEZONE
TZID:America/Chicago
BEGIN:DAYLIGHT
TZOFFSETFROM:-0600
TZOFFSETTO:-0500
TZNAME:CDT
DTSTART:20250309T080000
END:DAYLIGHT
BEGIN:STANDARD
TZOFFSETFROM:-0500
TZOFFSETTO:-0600
TZNAME:CST
DTSTART:20251102T070000
END:STANDARD
BEGIN:DAYLIGHT
TZOFFSETFROM:-0600
TZOFFSETTO:-0500
TZNAME:CDT
DTSTART:20260308T080000
END:DAYLIGHT
BEGIN:STANDARD
TZOFFSETFROM:-0500
TZOFFSETTO:-0600
TZNAME:CST
DTSTART:20261101T070000
END:STANDARD
BEGIN:DAYLIGHT
TZOFFSETFROM:-0600
TZOFFSETTO:-0500
TZNAME:CDT
DTSTART:20270314T080000
END:DAYLIGHT
BEGIN:STANDARD
TZOFFSETFROM:-0500
TZOFFSETTO:-0600
TZNAME:CST
DTSTART:20271107T070000
END:STANDARD
END:VTIMEZONE
BEGIN:VEVENT
DTSTART;TZID=America/Chicago:20260426T173000
DTEND;TZID=America/Chicago:20260426T200000
DTSTAMP:20260422T073738
CREATED:20260410T202329Z
LAST-MODIFIED:20260410T202329Z
UID:6335-1777224600-1777233600@cherryscholarship.org
SUMMARY:2026 Annual Awards Dinner
DESCRIPTION:Please join us on Sunday\, April 26\, 2026 to celebrate this year’s Cherry Scholarship winners! \nPat Savage-Williams\, Board President of Evanston Township High School with be our Keynote Speaker. \nTo reserve your place at  the 2026 Award Dinner\, visit this link.
URL:https://cherryscholarship.org/event/2026-annual-awards-dinner/
LOCATION:Maggiano’s Restaurant\, 175 Old Orchard Center\, Skokie\, IL\, 60202\, United States
END:VEVENT
END:VCALENDAR